BEGIN:VCALENDAR
VERSION:2.0
PRODID:-//Tukios.com/
BEGIN:VEVENT
UID:e429a649-0853-4c6a-bcaa-e472321e7eda@www.brannen-nesmith.com
DTSTAMP:20260423T010459Z
DTSTART:20260424T180000Z
DTEND:20260424T190000Z
SUMMARY:Graveside Service
DESCRIPTION:
URL:https://www.brannen-nesmith.com/obituaries/rodney-nelson
LOCATION: 74 Spruce Lane  Pitts GA 31072
GEO:32.0208739;-83.5907668
END:VEVENT
END:VCALENDAR